BEGIN:VCALENDAR
VERSION:2.0
PRODID:-//Build Up Justice NYC - ECPv6.15.17.1//NONSGML v1.0//EN
CALSCALE:GREGORIAN
METHOD:PUBLISH
X-WR-CALNAME:Build Up Justice NYC
X-ORIGINAL-URL:https://buj.org
X-WR-CALDESC:Events for Build Up Justice NYC
REFRESH-INTERVAL;VALUE=DURATION:PT1H
X-Robots-Tag:noindex
X-PUBLISHED-TTL:PT1H
BEGIN:VTIMEZONE
TZID:America/New_York
BEGIN:DAYLIGHT
TZOFFSETFROM:-0500
TZOFFSETTO:-0400
TZNAME:EDT
DTSTART:20210314T070000
END:DAYLIGHT
BEGIN:STANDARD
TZOFFSETFROM:-0400
TZOFFSETTO:-0500
TZNAME:EST
DTSTART:20211107T060000
END:STANDARD
BEGIN:DAYLIGHT
TZOFFSETFROM:-0500
TZOFFSETTO:-0400
TZNAME:EDT
DTSTART:20220313T070000
END:DAYLIGHT
BEGIN:STANDARD
TZOFFSETFROM:-0400
TZOFFSETTO:-0500
TZNAME:EST
DTSTART:20221106T060000
END:STANDARD
BEGIN:DAYLIGHT
TZOFFSETFROM:-0500
TZOFFSETTO:-0400
TZNAME:EDT
DTSTART:20230312T070000
END:DAYLIGHT
BEGIN:STANDARD
TZOFFSETFROM:-0400
TZOFFSETTO:-0500
TZNAME:EST
DTSTART:20231105T060000
END:STANDARD
END:VTIMEZONE
BEGIN:VEVENT
DTSTART;TZID=America/New_York:20221110T180000
DTEND;TZID=America/New_York:20221110T190000
DTSTAMP:20260424T054248
CREATED:20221103T205328Z
LAST-MODIFIED:20221103T205328Z
UID:10874-1668103200-1668106800@buj.org
SUMMARY:Collections: How to Deal with Tax Bills
DESCRIPTION:Learn what to do if you owe money to the IRS or the NYS Department of Taxation and Finance with Brooklyn A tax experts. \nRegister Here
URL:https://buj.org/event/collections-how-to-deal-with-tax-bills/
LOCATION:Online via Zoom
CATEGORIES:Consumer & Economic Advocacy
ATTACH;FMTTYPE=image/png:https://buj.org/wp-content/uploads/2022/11/11.10.22-BKA-Collections-Event-Flyer-Flyer-Portrait-Twitter-Post.png
END:VEVENT
END:VCALENDAR