BEGIN:VCALENDAR
VERSION:2.0
PRODID:-//Build Up Justice NYC - ECPv6.15.17.1//NONSGML v1.0//EN
CALSCALE:GREGORIAN
METHOD:PUBLISH
X-ORIGINAL-URL:https://buj.org
X-WR-CALDESC:Events for Build Up Justice NYC
REFRESH-INTERVAL;VALUE=DURATION:PT1H
X-Robots-Tag:noindex
X-PUBLISHED-TTL:PT1H
BEGIN:VTIMEZONE
TZID:America/New_York
BEGIN:DAYLIGHT
TZOFFSETFROM:-0500
TZOFFSETTO:-0400
TZNAME:EDT
DTSTART:20230312T070000
END:DAYLIGHT
BEGIN:STANDARD
TZOFFSETFROM:-0400
TZOFFSETTO:-0500
TZNAME:EST
DTSTART:20231105T060000
END:STANDARD
BEGIN:DAYLIGHT
TZOFFSETFROM:-0500
TZOFFSETTO:-0400
TZNAME:EDT
DTSTART:20240310T070000
END:DAYLIGHT
BEGIN:STANDARD
TZOFFSETFROM:-0400
TZOFFSETTO:-0500
TZNAME:EST
DTSTART:20241103T060000
END:STANDARD
BEGIN:DAYLIGHT
TZOFFSETFROM:-0500
TZOFFSETTO:-0400
TZNAME:EDT
DTSTART:20250309T070000
END:DAYLIGHT
BEGIN:STANDARD
TZOFFSETFROM:-0400
TZOFFSETTO:-0500
TZNAME:EST
DTSTART:20251102T060000
END:STANDARD
BEGIN:DAYLIGHT
TZOFFSETFROM:-0500
TZOFFSETTO:-0400
TZNAME:EDT
DTSTART:20260308T070000
END:DAYLIGHT
BEGIN:STANDARD
TZOFFSETFROM:-0400
TZOFFSETTO:-0500
TZNAME:EST
DTSTART:20261101T060000
END:STANDARD
BEGIN:DAYLIGHT
TZOFFSETFROM:-0500
TZOFFSETTO:-0400
TZNAME:EDT
DTSTART:20270314T070000
END:DAYLIGHT
BEGIN:STANDARD
TZOFFSETFROM:-0400
TZOFFSETTO:-0500
TZNAME:EST
DTSTART:20271107T060000
END:STANDARD
END:VTIMEZONE
BEGIN:VEVENT
DTSTART;TZID=America/New_York:20240801T180000
DTEND;TZID=America/New_York:20240801T190000
DTSTAMP:20260424T112850
CREATED:20240715T200738Z
LAST-MODIFIED:20240715T204000Z
UID:11389-1722535200-1722538800@buj.org
SUMMARY:Don't Lose Your Home!
DESCRIPTION:If you’ve fallen behind on your mortgage payments\, join our webinar to discover the essential steps to help you get back on track and regain stability! \nRegister Here
URL:https://buj.org/event/dont-lose-your-home/
LOCATION:Online via Zoom
CATEGORIES:Consumer & Economic Advocacy
ATTACH;FMTTYPE=image/png:https://buj.org/wp-content/uploads/2024/07/Website-Event-Page-Photos.png
END:VEVENT
BEGIN:VEVENT
DTSTART;TZID=America/New_York:20240828T180000
DTEND;TZID=America/New_York:20240828T190000
DTSTAMP:20260424T112850
CREATED:20240819T125214Z
LAST-MODIFIED:20240819T125721Z
UID:11427-1724868000-1724871600@buj.org
SUMMARY:Free Resume Writing and Job Search Workshop
DESCRIPTION:Join us for an engaging workshop to gain insights on navigating job search platforms and enhancing your resume. \nRegister Here
URL:https://buj.org/event/free-resume-writing-and-job-search-workshop/
LOCATION:Online via Zoom
CATEGORIES:Consumer & Economic Advocacy
ATTACH;FMTTYPE=image/png:https://buj.org/wp-content/uploads/2024/08/8.28.24-Dime-.png
END:VEVENT
BEGIN:VEVENT
DTSTART;TZID=America/New_York:20241023T180000
DTEND;TZID=America/New_York:20241023T190000
DTSTAMP:20260424T112850
CREATED:20241022T203511Z
LAST-MODIFIED:20241022T203511Z
UID:11479-1729706400-1729710000@buj.org
SUMMARY:Understanding Credit & Budgeting Webinar
DESCRIPTION:Join our live webinar hosted by Dime Community Bank and embark on your path towards financial freedom. \nRegister Here
URL:https://buj.org/event/understanding-credit-budgeting-webinar/
CATEGORIES:Consumer & Economic Advocacy
ATTACH;FMTTYPE=image/png:https://buj.org/wp-content/uploads/2024/10/Dime.png
END:VEVENT
BEGIN:VEVENT
DTSTART;TZID=America/New_York:20241028T150000
DTEND;TZID=America/New_York:20241028T160000
DTSTAMP:20260424T112850
CREATED:20241016T155405Z
LAST-MODIFIED:20241024T180024Z
UID:11471-1730127600-1730131200@buj.org
SUMMARY:CANCELED - DV Survivor's Resource Webinar
DESCRIPTION:This event has been canceled. Please refer back to the BKA.org/events page in the future for more events like this.
URL:https://buj.org/event/11471/
LOCATION:Online via Zoom
CATEGORIES:Consumer & Economic Advocacy
ATTACH;FMTTYPE=image/png:https://buj.org/wp-content/uploads/2024/10/DV-1.png
END:VEVENT
BEGIN:VEVENT
DTSTART;TZID=America/New_York:20250109T170000
DTEND;TZID=America/New_York:20250109T190000
DTSTAMP:20260424T112850
CREATED:20250107T201149Z
LAST-MODIFIED:20250107T201532Z
UID:11518-1736442000-1736449200@buj.org
SUMMARY:Drop-In Tax Table
DESCRIPTION:Get your tax questions answered by experts! Our “Drop-In Tax Table” in partnership with Grow Brooklyn is held every other Thursday as virtual office-hours. Sign up for a personal 15-minute virtual appointment between 5 pm to 7 pm to discuss things like filing requirements\, credit eligibility\, self-employment obligations\, and more. Click this link to register for the meeting. \nRegister Here \n 
URL:https://buj.org/event/drop-in-tax-table/
CATEGORIES:Consumer & Economic Advocacy,Taxpayers
ATTACH;FMTTYPE=image/png:https://buj.org/wp-content/uploads/2024/09/Tax-Table-2024.png
END:VEVENT
BEGIN:VEVENT
DTSTART;TZID=America/New_York:20250123T170000
DTEND;TZID=America/New_York:20250123T190000
DTSTAMP:20260424T112850
CREATED:20250107T201315Z
LAST-MODIFIED:20250107T201603Z
UID:11519-1737651600-1737658800@buj.org
SUMMARY:Drop-In Tax Table
DESCRIPTION:Get your tax questions answered by experts! Our “Drop-In Tax Table” in partnership with Grow Brooklyn is held every other Thursday as virtual office-hours. Sign up for a personal 15-minute virtual appointment between 5 pm to 7 pm to discuss things like filing requirements\, credit eligibility\, self-employment obligations\, and more. Click this link to register for the meeting. \nRegister Here
URL:https://buj.org/event/drop-in-tax-table-2/
LOCATION:Online via Zoom
CATEGORIES:Consumer & Economic Advocacy,Taxpayers
ATTACH;FMTTYPE=image/png:https://buj.org/wp-content/uploads/2024/09/Tax-Table-2024.png
END:VEVENT
BEGIN:VEVENT
DTSTART;TZID=America/New_York:20250206T170000
DTEND;TZID=America/New_York:20250206T190000
DTSTAMP:20260424T112850
CREATED:20250107T201430Z
LAST-MODIFIED:20250107T201621Z
UID:11520-1738861200-1738868400@buj.org
SUMMARY:Drop-In Tax Table
DESCRIPTION:Get your tax questions answered by experts! Our “Drop-In Tax Table” in partnership with Grow Brooklyn is held every other Thursday as virtual office-hours. Sign up for a personal 15-minute virtual appointment between 5 pm to 7 pm to discuss things like filing requirements\, credit eligibility\, self-employment obligations\, and more. Click this link to register for the meeting. \nRegister Here
URL:https://buj.org/event/11520/
LOCATION:Online via Zoom
CATEGORIES:Consumer & Economic Advocacy,Taxpayers
ATTACH;FMTTYPE=image/png:https://buj.org/wp-content/uploads/2024/09/Tax-Table-2024.png
END:VEVENT
BEGIN:VEVENT
DTSTART;TZID=America/New_York:20250408T180000
DTEND;TZID=America/New_York:20250408T190000
DTSTAMP:20260424T112850
CREATED:20250310T135630Z
LAST-MODIFIED:20250310T135630Z
UID:11585-1744135200-1744138800@buj.org
SUMMARY:DV Survivor's Resource Webinar
DESCRIPTION:If you’re a survivor of domestic violence\, you are not alone—resources are available to help you rebuild. Learn about housing vouchers\, furniture allowances\, anti-discrimination housing protections\, and steps to take if someone falsely claims your dependent on their tax return. The program is sponsored by Assembly Member Stefani Zinerman. \nRegister Here
URL:https://buj.org/event/dv-survivors-resource-webinar/
CATEGORIES:Consumer & Economic Advocacy
ATTACH;FMTTYPE=image/png:https://buj.org/wp-content/uploads/2025/03/Website-DV-4.8.25.png
END:VEVENT
BEGIN:VEVENT
DTSTART;TZID=America/New_York:20251002T170000
DTEND;TZID=America/New_York:20251002T190000
DTSTAMP:20260424T112850
CREATED:20250929T205435Z
LAST-MODIFIED:20250929T205435Z
UID:12334-1759424400-1759431600@buj.org
SUMMARY:Drop-In Tax Table
DESCRIPTION:Get your tax questions answered by experts! Our “Drop-In Tax Table” in partnership with Grow Brooklyn is held every other Thursday as virtual office-hours. Sign up for a personal 15-minute virtual appointment between 5 pm to 7 pm to discuss things like filing requirements\, credit eligibility\, self-employment obligations\, and more. Click below to register for an appointment. \nRegister Here
URL:https://buj.org/event/drop-in-tax-table-3/
LOCATION:Online via Zoom
CATEGORIES:Consumer & Economic Advocacy,Taxpayers
ATTACH;FMTTYPE=image/png:https://buj.org/wp-content/uploads/2025/01/2024-Drop-In-Tax-Table-LITC-Letter-Twitter-Post-1.png
END:VEVENT
BEGIN:VEVENT
DTSTART;TZID=America/New_York:20260108T180000
DTEND;TZID=America/New_York:20260108T190000
DTSTAMP:20260424T112850
CREATED:20260105T163148Z
LAST-MODIFIED:20260105T163148Z
UID:13080-1767895200-1767898800@buj.org
SUMMARY:Financial Harmony: Empowering Older Adults and Financial Caregivers
DESCRIPTION:BUJNYC’s Wills & Estates Practice\, in partnership with Citizens Bank\, will provide practical guidance to help older adults and caregivers navigate financial responsibilities with confidence. \nYou’ll learn about: \n\nBudgeting and financial planning\nManaging and reducing debt\nPreventing financial fraud\nManaging someone else’s money\nLegacy planning insights\n\nDon’t miss this opportunity to gain practical tools and guidance for yourself or those you care for. Register today! \nRegister Here
URL:https://buj.org/event/financial-harmony-empowering-older-adults-and-financial-caregivers/
LOCATION:Online via Zoom
CATEGORIES:Consumer & Economic Advocacy
ATTACH;FMTTYPE=image/png:https://buj.org/wp-content/uploads/2026/01/Blog-headers-33.png
END:VEVENT
END:VCALENDAR