BEGIN:VCALENDAR
VERSION:2.0
PRODID:-//Build Up Justice NYC - ECPv6.15.17.1//NONSGML v1.0//EN
CALSCALE:GREGORIAN
METHOD:PUBLISH
X-WR-CALNAME:Build Up Justice NYC
X-ORIGINAL-URL:https://buj.org
X-WR-CALDESC:Events for Build Up Justice NYC
REFRESH-INTERVAL;VALUE=DURATION:PT1H
X-Robots-Tag:noindex
X-PUBLISHED-TTL:PT1H
BEGIN:VTIMEZONE
TZID:America/New_York
BEGIN:DAYLIGHT
TZOFFSETFROM:-0500
TZOFFSETTO:-0400
TZNAME:EDT
DTSTART:20200308T070000
END:DAYLIGHT
BEGIN:STANDARD
TZOFFSETFROM:-0400
TZOFFSETTO:-0500
TZNAME:EST
DTSTART:20201101T060000
END:STANDARD
BEGIN:DAYLIGHT
TZOFFSETFROM:-0500
TZOFFSETTO:-0400
TZNAME:EDT
DTSTART:20210314T070000
END:DAYLIGHT
BEGIN:STANDARD
TZOFFSETFROM:-0400
TZOFFSETTO:-0500
TZNAME:EST
DTSTART:20211107T060000
END:STANDARD
BEGIN:DAYLIGHT
TZOFFSETFROM:-0500
TZOFFSETTO:-0400
TZNAME:EDT
DTSTART:20220313T070000
END:DAYLIGHT
BEGIN:STANDARD
TZOFFSETFROM:-0400
TZOFFSETTO:-0500
TZNAME:EST
DTSTART:20221106T060000
END:STANDARD
BEGIN:DAYLIGHT
TZOFFSETFROM:-0500
TZOFFSETTO:-0400
TZNAME:EDT
DTSTART:20230312T070000
END:DAYLIGHT
BEGIN:STANDARD
TZOFFSETFROM:-0400
TZOFFSETTO:-0500
TZNAME:EST
DTSTART:20231105T060000
END:STANDARD
END:VTIMEZONE
BEGIN:VEVENT
DTSTART;TZID=America/New_York:20220125T140000
DTEND;TZID=America/New_York:20220125T153000
DTSTAMP:20260421T053938
CREATED:20220106T165540Z
LAST-MODIFIED:20220118T175604Z
UID:10258-1643119200-1643124600@buj.org
SUMMARY:Property Tax Benefits for Homeowners
DESCRIPTION:Homeowners in New York City and New York State can find relief through property tax exemptions\, abatements\, and credits. Join us for this webinar hosted by the Protect Our Homes Queens Coalition\, featuring the NYC Department of Finance\, and with sponsorship support from NYC Council Speaker Adrienne Adams\, State Senator James Sanders Jr.\, State Senator Leroy Comrie\, State Assembly Member Alicia Hyndman\, State Assembly Member Clyde Vanel\, State Assembly Member Khaleel Anderson\, Council Member Selvena Brooks-Powers\, and Council Member Nantasha Williams. \nRegister Here
URL:https://buj.org/event/property-tax-benefits-for-homeowners/
LOCATION:Online via Zoom
CATEGORIES:Consumer & Economic Advocacy,Homeowners
ATTACH;FMTTYPE=image/png:https://buj.org/wp-content/uploads/2022/01/2022-01-25-Protect-Our-Homes-Flyer-Twitter-Post.png
END:VEVENT
BEGIN:VEVENT
DTSTART;TZID=America/New_York:20220120T063000
DTEND;TZID=America/New_York:20220120T193000
DTSTAMP:20260421T053938
CREATED:20220118T150726Z
LAST-MODIFIED:20220120T150751Z
UID:10280-1642660200-1642707000@buj.org
SUMMARY:How to Apply for Homeowner Relief Now
DESCRIPTION:The Homeowner Assistance Fund (HAF) helps homeowners impacted by COVID-19 catch up on mortgage and utility bills and pay other housing costs. \nJoin us and New York State Senator Leroy Comrie to learn how to qualify and apply to receive immediate relief. \nRegister Here
URL:https://buj.org/event/how-to-apply-for-homeowner-relief-now/
LOCATION:Online via Zoom
CATEGORIES:Consumer & Economic Advocacy,Homeowners
ATTACH;FMTTYPE=image/png:https://buj.org/wp-content/uploads/2022/01/2022-01-20-Brooklyn-A-Comrie-Flyer-Twitter-Post.png
END:VEVENT
BEGIN:VEVENT
DTSTART;TZID=America/New_York:20211014T170000
DTEND;TZID=America/New_York:20211014T180000
DTSTAMP:20260421T053938
CREATED:20211130T011630Z
LAST-MODIFIED:20211130T011630Z
UID:10186-1634230800-1634234400@buj.org
SUMMARY:Webinar: Taxpayer’s Rights
DESCRIPTION:Want to learn about the EIP payment deadline?\nHave questions about the IRS.gov Non-Filers tool?\n\nJoin Brooklyn A’s Low-Income Taxpayer Clinic on October 14th at 5:00 pm for a taxpayer’s rights webinar.
URL:https://buj.org/event/webinar-taxpayers-rights/
LOCATION:Online via Zoom
CATEGORIES:Consumer & Economic Advocacy,Tenants
END:VEVENT
END:VCALENDAR