BEGIN:VCALENDAR
VERSION:2.0
PRODID:-//Build Up Justice NYC - ECPv6.15.17.1//NONSGML v1.0//EN
CALSCALE:GREGORIAN
METHOD:PUBLISH
X-WR-CALNAME:Build Up Justice NYC
X-ORIGINAL-URL:https://buj.org
X-WR-CALDESC:Events for Build Up Justice NYC
REFRESH-INTERVAL;VALUE=DURATION:PT1H
X-Robots-Tag:noindex
X-PUBLISHED-TTL:PT1H
BEGIN:VTIMEZONE
TZID:America/New_York
BEGIN:DAYLIGHT
TZOFFSETFROM:-0500
TZOFFSETTO:-0400
TZNAME:EDT
DTSTART:20220313T070000
END:DAYLIGHT
BEGIN:STANDARD
TZOFFSETFROM:-0400
TZOFFSETTO:-0500
TZNAME:EST
DTSTART:20221106T060000
END:STANDARD
BEGIN:DAYLIGHT
TZOFFSETFROM:-0500
TZOFFSETTO:-0400
TZNAME:EDT
DTSTART:20230312T070000
END:DAYLIGHT
BEGIN:STANDARD
TZOFFSETFROM:-0400
TZOFFSETTO:-0500
TZNAME:EST
DTSTART:20231105T060000
END:STANDARD
BEGIN:DAYLIGHT
TZOFFSETFROM:-0500
TZOFFSETTO:-0400
TZNAME:EDT
DTSTART:20240310T070000
END:DAYLIGHT
BEGIN:STANDARD
TZOFFSETFROM:-0400
TZOFFSETTO:-0500
TZNAME:EST
DTSTART:20241103T060000
END:STANDARD
END:VTIMEZONE
BEGIN:VEVENT
DTSTART;TZID=America/New_York:20230321T180000
DTEND;TZID=America/New_York:20230321T193000
DTSTAMP:20260422T072216
CREATED:20230320T213638Z
LAST-MODIFIED:20230320T214334Z
UID:10982-1679421600-1679427000@buj.org
SUMMARY:Foreclosure Abuse Prevention Act: New NY Law to Avoid Foreclosure & Scams
DESCRIPTION:Late with your mortgage? Don’t lose your home and don’t get fooled by scams! Join our webinar with NHS Brooklyn tonight at 6PM to learn about the Foreclosure Abuse Prevention Act\, what to do if you’re late on your mortgage\, and more tips to protect your home. Click here to sign up. \nRegister Here
URL:https://buj.org/event/foreclosure-abuse-prevention-act-new-ny-law-to-avoid-foreclosure-scams/
CATEGORIES:Consumer & Economic Advocacy,Homeowners
ATTACH;FMTTYPE=image/png:https://buj.org/wp-content/uploads/2023/03/NHS-brooklyn-event-cover-photo.png
END:VEVENT
END:VCALENDAR