BEGIN:VCALENDAR
VERSION:2.0
PRODID:-//Build Up Justice NYC - ECPv6.15.17.1//NONSGML v1.0//EN
CALSCALE:GREGORIAN
METHOD:PUBLISH
X-WR-CALNAME:Build Up Justice NYC
X-ORIGINAL-URL:https://buj.org
X-WR-CALDESC:Events for Build Up Justice NYC
REFRESH-INTERVAL;VALUE=DURATION:PT1H
X-Robots-Tag:noindex
X-PUBLISHED-TTL:PT1H
BEGIN:VTIMEZONE
TZID:America/New_York
BEGIN:DAYLIGHT
TZOFFSETFROM:-0500
TZOFFSETTO:-0400
TZNAME:EDT
DTSTART:20240310T070000
END:DAYLIGHT
BEGIN:STANDARD
TZOFFSETFROM:-0400
TZOFFSETTO:-0500
TZNAME:EST
DTSTART:20241103T060000
END:STANDARD
BEGIN:DAYLIGHT
TZOFFSETFROM:-0500
TZOFFSETTO:-0400
TZNAME:EDT
DTSTART:20250309T070000
END:DAYLIGHT
BEGIN:STANDARD
TZOFFSETFROM:-0400
TZOFFSETTO:-0500
TZNAME:EST
DTSTART:20251102T060000
END:STANDARD
BEGIN:DAYLIGHT
TZOFFSETFROM:-0500
TZOFFSETTO:-0400
TZNAME:EDT
DTSTART:20260308T070000
END:DAYLIGHT
BEGIN:STANDARD
TZOFFSETFROM:-0400
TZOFFSETTO:-0500
TZNAME:EST
DTSTART:20261101T060000
END:STANDARD
END:VTIMEZONE
BEGIN:VEVENT
DTSTART;TZID=America/New_York:20251014T160000
DTEND;TZID=America/New_York:20251014T180000
DTSTAMP:20260421T133142
CREATED:20250929T203014Z
LAST-MODIFIED:20250929T203749Z
UID:12321-1760457600-1760464800@buj.org
SUMMARY:Commercial Lease Assistance Program Virtual Clinic
DESCRIPTION:Build Up Justice NYC and the NYC Department of Small Business Services (SBS) offer regular virtual clinics through the Commercial Lease Assistance (CLA) program. These clinics allow you to have a one-on-one session with a Build Up Justice NYC attorney to discuss any of your legal questions or concerns regarding your commercial lease. Select a date that works best for you. Click this link to register for the meeting. \nRegister Here
URL:https://buj.org/event/commercial-lease-assistance-program-virtual-clinic-3/
LOCATION:Online via Zoom
CATEGORIES:Small Businesses
ATTACH;FMTTYPE=image/png:https://buj.org/wp-content/uploads/2024/09/CLA-2024-postcards.png
END:VEVENT
BEGIN:VEVENT
DTSTART;TZID=America/New_York:20251028T100000
DTEND;TZID=America/New_York:20251028T120000
DTSTAMP:20260421T133142
CREATED:20250929T203538Z
LAST-MODIFIED:20250929T203738Z
UID:12324-1761645600-1761652800@buj.org
SUMMARY:Commercial Lease Assistance Virtual Clinic
DESCRIPTION:Build Up Justice NYC and the NYC Department of Small Business Services (SBS) offer regular virtual clinics through the Commercial Lease Assistance (CLA) program. These clinics allow you to have a one-on-one session with a Build Up Justice NYC attorney to discuss any of your legal questions or concerns regarding your commercial lease. Select a date that works best for you. Click this link to register for the meeting. \nRegister Here
URL:https://buj.org/event/commercial-lease-assistance-virtual-clinic/
LOCATION:Online via Zoom
CATEGORIES:Small Businesses
ATTACH;FMTTYPE=image/png:https://buj.org/wp-content/uploads/2024/09/CLA-2024-postcards.png
END:VEVENT
END:VCALENDAR