BEGIN:VCALENDAR
VERSION:2.0
PRODID:-//Build Up Justice NYC - ECPv6.15.17.1//NONSGML v1.0//EN
CALSCALE:GREGORIAN
METHOD:PUBLISH
X-ORIGINAL-URL:https://buj.org
X-WR-CALDESC:Events for Build Up Justice NYC
REFRESH-INTERVAL;VALUE=DURATION:PT1H
X-Robots-Tag:noindex
X-PUBLISHED-TTL:PT1H
BEGIN:VTIMEZONE
TZID:America/New_York
BEGIN:DAYLIGHT
TZOFFSETFROM:-0500
TZOFFSETTO:-0400
TZNAME:EDT
DTSTART:20230312T070000
END:DAYLIGHT
BEGIN:STANDARD
TZOFFSETFROM:-0400
TZOFFSETTO:-0500
TZNAME:EST
DTSTART:20231105T060000
END:STANDARD
BEGIN:DAYLIGHT
TZOFFSETFROM:-0500
TZOFFSETTO:-0400
TZNAME:EDT
DTSTART:20240310T070000
END:DAYLIGHT
BEGIN:STANDARD
TZOFFSETFROM:-0400
TZOFFSETTO:-0500
TZNAME:EST
DTSTART:20241103T060000
END:STANDARD
BEGIN:DAYLIGHT
TZOFFSETFROM:-0500
TZOFFSETTO:-0400
TZNAME:EDT
DTSTART:20250309T070000
END:DAYLIGHT
BEGIN:STANDARD
TZOFFSETFROM:-0400
TZOFFSETTO:-0500
TZNAME:EST
DTSTART:20251102T060000
END:STANDARD
END:VTIMEZONE
BEGIN:VEVENT
DTSTART;TZID=America/New_York:20240509T170000
DTEND;TZID=America/New_York:20240509T190000
DTSTAMP:20260422T120142
CREATED:20221018T173822Z
LAST-MODIFIED:20240423T175522Z
UID:10838-1715274000-1715281200@buj.org
SUMMARY:Drop-In Tax Table (multiple dates)
DESCRIPTION:Get your tax questions answered by experts! Our “Drop-In Tax Table” in partnership with Grow Brooklyn is held every other Thursday as a virtual office-hours. Sign up for a 15-minute virtual appointment between 5 pm to 7 pm to discuss things like filing requirements\, credit eligibility\, self-employment obligations\, and more. Click this link to register for the meeting. \nRegister Here\nUpcoming dates: \nMarch 28 \nApril 11 \nApril 25 \nMay 9
URL:https://buj.org/event/tax-talk-thursdays/
LOCATION:Online via Zoom
CATEGORIES:Taxpayers
ATTACH;FMTTYPE=image/png:https://buj.org/wp-content/uploads/2022/10/2024-Drop-In-Tax-Table-LITC-Letter-Twitter-Post.png
END:VEVENT
END:VCALENDAR