BEGIN:VCALENDAR
VERSION:2.0
PRODID:-//Build Up Justice NYC - ECPv6.15.17.1//NONSGML v1.0//EN
CALSCALE:GREGORIAN
METHOD:PUBLISH
X-ORIGINAL-URL:https://buj.org
X-WR-CALDESC:Events for Build Up Justice NYC
REFRESH-INTERVAL;VALUE=DURATION:PT1H
X-Robots-Tag:noindex
X-PUBLISHED-TTL:PT1H
BEGIN:VTIMEZONE
TZID:America/New_York
BEGIN:DAYLIGHT
TZOFFSETFROM:-0500
TZOFFSETTO:-0400
TZNAME:EDT
DTSTART:20240310T070000
END:DAYLIGHT
BEGIN:STANDARD
TZOFFSETFROM:-0400
TZOFFSETTO:-0500
TZNAME:EST
DTSTART:20241103T060000
END:STANDARD
BEGIN:DAYLIGHT
TZOFFSETFROM:-0500
TZOFFSETTO:-0400
TZNAME:EDT
DTSTART:20250309T070000
END:DAYLIGHT
BEGIN:STANDARD
TZOFFSETFROM:-0400
TZOFFSETTO:-0500
TZNAME:EST
DTSTART:20251102T060000
END:STANDARD
BEGIN:DAYLIGHT
TZOFFSETFROM:-0500
TZOFFSETTO:-0400
TZNAME:EDT
DTSTART:20260308T070000
END:DAYLIGHT
BEGIN:STANDARD
TZOFFSETFROM:-0400
TZOFFSETTO:-0500
TZNAME:EST
DTSTART:20261101T060000
END:STANDARD
END:VTIMEZONE
BEGIN:VEVENT
DTSTART;TZID=America/New_York:20250327T130000
DTEND;TZID=America/New_York:20250327T140000
DTSTAMP:20260421T193854
CREATED:20250310T134341Z
LAST-MODIFIED:20250320T122831Z
UID:11583-1743080400-1743084000@buj.org
SUMMARY:You CAN File Your Taxes
DESCRIPTION:Haven’t done your taxes yet? There’s still time! Experts from Brooklyn A will walk through how you can file on your own. \nRegister Here
URL:https://buj.org/event/you-can-file-your-taxes/
CATEGORIES:Taxpayers
ATTACH;FMTTYPE=image/png:https://buj.org/wp-content/uploads/2025/03/Website-Taxes.png
END:VEVENT
END:VCALENDAR