BEGIN:VCALENDAR
VERSION:2.0
PRODID:-//Build Up Justice NYC - ECPv6.15.17.1//NONSGML v1.0//EN
CALSCALE:GREGORIAN
METHOD:PUBLISH
X-WR-CALNAME:Build Up Justice NYC
X-ORIGINAL-URL:https://buj.org
X-WR-CALDESC:Events for Build Up Justice NYC
REFRESH-INTERVAL;VALUE=DURATION:PT1H
X-Robots-Tag:noindex
X-PUBLISHED-TTL:PT1H
BEGIN:VTIMEZONE
TZID:America/New_York
BEGIN:DAYLIGHT
TZOFFSETFROM:-0500
TZOFFSETTO:-0400
TZNAME:EDT
DTSTART:20240310T070000
END:DAYLIGHT
BEGIN:STANDARD
TZOFFSETFROM:-0400
TZOFFSETTO:-0500
TZNAME:EST
DTSTART:20241103T060000
END:STANDARD
BEGIN:DAYLIGHT
TZOFFSETFROM:-0500
TZOFFSETTO:-0400
TZNAME:EDT
DTSTART:20250309T070000
END:DAYLIGHT
BEGIN:STANDARD
TZOFFSETFROM:-0400
TZOFFSETTO:-0500
TZNAME:EST
DTSTART:20251102T060000
END:STANDARD
BEGIN:DAYLIGHT
TZOFFSETFROM:-0500
TZOFFSETTO:-0400
TZNAME:EDT
DTSTART:20260308T070000
END:DAYLIGHT
BEGIN:STANDARD
TZOFFSETFROM:-0400
TZOFFSETTO:-0500
TZNAME:EST
DTSTART:20261101T060000
END:STANDARD
BEGIN:DAYLIGHT
TZOFFSETFROM:-0500
TZOFFSETTO:-0400
TZNAME:EDT
DTSTART:20270314T070000
END:DAYLIGHT
BEGIN:STANDARD
TZOFFSETFROM:-0400
TZOFFSETTO:-0500
TZNAME:EST
DTSTART:20271107T060000
END:STANDARD
END:VTIMEZONE
BEGIN:VEVENT
DTSTART;TZID=America/New_York:20250206T170000
DTEND;TZID=America/New_York:20250206T190000
DTSTAMP:20260422T184636
CREATED:20250107T201430Z
LAST-MODIFIED:20250107T201621Z
UID:11520-1738861200-1738868400@buj.org
SUMMARY:Drop-In Tax Table
DESCRIPTION:Get your tax questions answered by experts! Our “Drop-In Tax Table” in partnership with Grow Brooklyn is held every other Thursday as virtual office-hours. Sign up for a personal 15-minute virtual appointment between 5 pm to 7 pm to discuss things like filing requirements\, credit eligibility\, self-employment obligations\, and more. Click this link to register for the meeting. \nRegister Here
URL:https://buj.org/event/11520/
LOCATION:Online via Zoom
CATEGORIES:Consumer & Economic Advocacy,Taxpayers
ATTACH;FMTTYPE=image/png:https://buj.org/wp-content/uploads/2024/09/Tax-Table-2024.png
END:VEVENT
BEGIN:VEVENT
DTSTART;TZID=America/New_York:20250327T130000
DTEND;TZID=America/New_York:20250327T140000
DTSTAMP:20260422T184636
CREATED:20250310T134341Z
LAST-MODIFIED:20250320T122831Z
UID:11583-1743080400-1743084000@buj.org
SUMMARY:You CAN File Your Taxes
DESCRIPTION:Haven’t done your taxes yet? There’s still time! Experts from Brooklyn A will walk through how you can file on your own. \nRegister Here
URL:https://buj.org/event/you-can-file-your-taxes/
CATEGORIES:Taxpayers
ATTACH;FMTTYPE=image/png:https://buj.org/wp-content/uploads/2025/03/Website-Taxes.png
END:VEVENT
BEGIN:VEVENT
DTSTART;TZID=America/New_York:20251002T170000
DTEND;TZID=America/New_York:20251002T190000
DTSTAMP:20260422T184636
CREATED:20250929T205435Z
LAST-MODIFIED:20250929T205435Z
UID:12334-1759424400-1759431600@buj.org
SUMMARY:Drop-In Tax Table
DESCRIPTION:Get your tax questions answered by experts! Our “Drop-In Tax Table” in partnership with Grow Brooklyn is held every other Thursday as virtual office-hours. Sign up for a personal 15-minute virtual appointment between 5 pm to 7 pm to discuss things like filing requirements\, credit eligibility\, self-employment obligations\, and more. Click below to register for an appointment. \nRegister Here
URL:https://buj.org/event/drop-in-tax-table-3/
LOCATION:Online via Zoom
CATEGORIES:Consumer & Economic Advocacy,Taxpayers
ATTACH;FMTTYPE=image/png:https://buj.org/wp-content/uploads/2025/01/2024-Drop-In-Tax-Table-LITC-Letter-Twitter-Post-1.png
END:VEVENT
BEGIN:VEVENT
DTSTART;TZID=America/New_York:20251016T080000
DTEND;TZID=America/New_York:20251016T170000
DTSTAMP:20260422T184636
CREATED:20250929T205820Z
LAST-MODIFIED:20250929T205820Z
UID:12338-1760601600-1760634000@buj.org
SUMMARY:Drop-In Tax Table
DESCRIPTION:Get your tax questions answered by experts! Our “Drop-In Tax Table” in partnership with Grow Brooklyn is held every other Thursday as virtual office-hours. Sign up for a personal 15-minute virtual appointment between 5 pm to 7 pm to discuss things like filing requirements\, credit eligibility\, self-employment obligations\, and more. Click below to register for an appointment. \nRegister Here
URL:https://buj.org/event/drop-in-tax-table-4/
LOCATION:Online via Zoom
CATEGORIES:Taxpayers
ATTACH;FMTTYPE=image/png:https://buj.org/wp-content/uploads/2025/01/2024-Drop-In-Tax-Table-LITC-Letter-Twitter-Post-1.png
END:VEVENT
BEGIN:VEVENT
DTSTART;TZID=America/New_York:20251106T170000
DTEND;TZID=America/New_York:20251106T190000
DTSTAMP:20260422T184636
CREATED:20250929T210032Z
LAST-MODIFIED:20251029T164738Z
UID:12340-1762448400-1762455600@buj.org
SUMMARY:Drop-In Tax Table
DESCRIPTION:Get your tax questions answered by experts! Our “Drop-In Tax Table” in partnership with Grow Brooklyn is held every other Thursday as virtual office-hours. Sign up for a personal 15-minute virtual appointment between 5 pm to 7 pm to discuss things like filing requirements\, credit eligibility\, self-employment obligations\, and more. Click below to register for an appointment. \nRegister Here
URL:https://buj.org/event/drop-in-tax-table-5/
LOCATION:Online via Zoom
CATEGORIES:Taxpayers
ATTACH;FMTTYPE=image/png:https://buj.org/wp-content/uploads/2025/01/2024-Drop-In-Tax-Table-LITC-Letter-Twitter-Post-1.png
END:VEVENT
BEGIN:VEVENT
DTSTART;TZID=America/New_York:20251120T170000
DTEND;TZID=America/New_York:20251120T190000
DTSTAMP:20260422T184636
CREATED:20251029T184320Z
LAST-MODIFIED:20251029T184402Z
UID:13010-1763658000-1763665200@buj.org
SUMMARY:Drop-In Tax Table
DESCRIPTION:Get your tax questions answered by experts! Our “Drop-In Tax Table” in partnership with Grow Brooklyn is held every other Thursday as virtual office-hours. Sign up for a personal 15-minute virtual appointment between 5 pm to 7 pm to discuss things like filing requirements\, credit eligibility\, self-employment obligations\, and more. Click below to register for an appointment. \nRegister Here
URL:https://buj.org/event/drop-in-tax-table-6/
LOCATION:Online via Zoom
CATEGORIES:Taxpayers
ATTACH;FMTTYPE=image/png:https://buj.org/wp-content/uploads/2025/01/2024-Drop-In-Tax-Table-LITC-Letter-Twitter-Post-1.png
END:VEVENT
BEGIN:VEVENT
DTSTART;TZID=America/New_York:20251204T170000
DTEND;TZID=America/New_York:20251204T190000
DTSTAMP:20260422T184636
CREATED:20251029T184517Z
LAST-MODIFIED:20251029T185728Z
UID:13014-1764867600-1764874800@buj.org
SUMMARY:Drop-In Tax Table
DESCRIPTION:Get your tax questions answered by experts! Our “Drop-In Tax Table” in partnership with Grow Brooklyn is held every other Thursday as virtual office-hours. Sign up for a personal 15-minute virtual appointment between 5 pm to 7 pm to discuss things like filing requirements\, credit eligibility\, self-employment obligations\, and more. Click below to register for an appointment. \nRegister Here
URL:https://buj.org/event/drop-in-tax-table-7/
LOCATION:Online via Zoom
CATEGORIES:Taxpayers
ATTACH;FMTTYPE=image/png:https://buj.org/wp-content/uploads/2025/01/2024-Drop-In-Tax-Table-LITC-Letter-Twitter-Post-1.png
END:VEVENT
BEGIN:VEVENT
DTSTART;TZID=America/New_York:20251218T170000
DTEND;TZID=America/New_York:20251218T190000
DTSTAMP:20260422T184636
CREATED:20251029T190257Z
LAST-MODIFIED:20251029T190257Z
UID:13016-1766077200-1766084400@buj.org
SUMMARY:Drop-In Tax Table
DESCRIPTION:Get your tax questions answered by experts! Our “Drop-In Tax Table” in partnership with Grow Brooklyn is held every other Thursday as virtual office-hours. Sign up for a personal 15-minute virtual appointment between 5 pm to 7 pm to discuss things like filing requirements\, credit eligibility\, self-employment obligations\, and more. Click below to register for an appointment. \nRegister Here
URL:https://buj.org/event/drop-in-tax-table-8/
LOCATION:Online via Zoom
CATEGORIES:Taxpayers
ATTACH;FMTTYPE=image/png:https://buj.org/wp-content/uploads/2025/01/2024-Drop-In-Tax-Table-LITC-Letter-Twitter-Post-1.png
END:VEVENT
BEGIN:VEVENT
DTSTART;TZID=America/New_York:20260304T180000
DTEND;TZID=America/New_York:20260304T193000
DTSTAMP:20260422T184636
CREATED:20260226T165051Z
LAST-MODIFIED:20260226T165051Z
UID:13138-1772647200-1772652600@buj.org
SUMMARY:Three Part Tax Series - Part 2
DESCRIPTION:Filing taxes can feel stressful and confusing — but it doesn’t have to be. We’re here to help. \nJoin Build Up Justice NYC and Grow Brooklyn for a free\, three-part series covering tax basics\, recent changes\, and helpful resources. Thank you to our sponsors Senator Roxanne J Persaud\, Senator Leroy Comrie\, Assemblymember Larinda Hooks\, and City Council Deputy Speaker Nantasha Williams. \nPart 2 covers the credits and refunds you may qualify for. We’ll cover the Child Tax Credit\, who can claim certain credits even without SSI\, how student loan refunds work\, how tips are taxed\, and what happens if your refund is reduced due to an offset. Our goal is simple: help you keep as much of your money as possible. \nRegister Here
URL:https://buj.org/event/three-part-tax-series-part-2/
LOCATION:Online via Zoom
CATEGORIES:Taxpayers
ATTACH;FMTTYPE=image/jpeg:https://buj.org/wp-content/uploads/2026/02/Events-for-Website.jpg
END:VEVENT
BEGIN:VEVENT
DTSTART;TZID=America/New_York:20260311T180000
DTEND;TZID=America/New_York:20260311T193000
DTSTAMP:20260422T184636
CREATED:20260226T165837Z
LAST-MODIFIED:20260226T171611Z
UID:13141-1773252000-1773257400@buj.org
SUMMARY:Three Part Tax Series - Part 3
DESCRIPTION:Filing taxes can feel stressful and confusing — but it doesn’t have to be. We’re here to help. \nJoin Build Up Justice NYC and Grow Brooklyn for a free\, three-part series covering tax basics\, recent changes\, and helpful resources. Thank you to our sponsors Senator Roxanne J Persaud\, Senator Leroy Comrie\, Assemblymember Larinda Hooks\, and City Council Deputy Speaker Nantasha Williams. \nIf you’re self-employed or earning extra income\, this session is for you. We’ll explain self-employment taxes and review the changes to the Assisted Self-Service filing option. We’ll also talk about payment plans\, Offers in Compromise\, and how to avoid common mistakes that can lead to penalties or debt. \nRegister Here
URL:https://buj.org/event/three-part-tax-series-part-3/
LOCATION:Online via Zoom
CATEGORIES:Taxpayers
ATTACH;FMTTYPE=image/jpeg:https://buj.org/wp-content/uploads/2026/02/Events-for-Website.jpg
END:VEVENT
END:VCALENDAR