BEGIN:VCALENDAR
VERSION:2.0
PRODID:-//Build Up Justice NYC - ECPv6.15.17.1//NONSGML v1.0//EN
CALSCALE:GREGORIAN
METHOD:PUBLISH
X-ORIGINAL-URL:https://buj.org
X-WR-CALDESC:Events for Build Up Justice NYC
REFRESH-INTERVAL;VALUE=DURATION:PT1H
X-Robots-Tag:noindex
X-PUBLISHED-TTL:PT1H
BEGIN:VTIMEZONE
TZID:America/New_York
BEGIN:DAYLIGHT
TZOFFSETFROM:-0500
TZOFFSETTO:-0400
TZNAME:EDT
DTSTART:20210314T070000
END:DAYLIGHT
BEGIN:STANDARD
TZOFFSETFROM:-0400
TZOFFSETTO:-0500
TZNAME:EST
DTSTART:20211107T060000
END:STANDARD
BEGIN:DAYLIGHT
TZOFFSETFROM:-0500
TZOFFSETTO:-0400
TZNAME:EDT
DTSTART:20220313T070000
END:DAYLIGHT
BEGIN:STANDARD
TZOFFSETFROM:-0400
TZOFFSETTO:-0500
TZNAME:EST
DTSTART:20221106T060000
END:STANDARD
BEGIN:DAYLIGHT
TZOFFSETFROM:-0500
TZOFFSETTO:-0400
TZNAME:EDT
DTSTART:20230312T070000
END:DAYLIGHT
BEGIN:STANDARD
TZOFFSETFROM:-0400
TZOFFSETTO:-0500
TZNAME:EST
DTSTART:20231105T060000
END:STANDARD
END:VTIMEZONE
BEGIN:VEVENT
DTSTART;TZID=America/New_York:20220125T140000
DTEND;TZID=America/New_York:20220125T153000
DTSTAMP:20260423T064443
CREATED:20220106T165540Z
LAST-MODIFIED:20220118T175604Z
UID:10258-1643119200-1643124600@buj.org
SUMMARY:Property Tax Benefits for Homeowners
DESCRIPTION:Homeowners in New York City and New York State can find relief through property tax exemptions\, abatements\, and credits. Join us for this webinar hosted by the Protect Our Homes Queens Coalition\, featuring the NYC Department of Finance\, and with sponsorship support from NYC Council Speaker Adrienne Adams\, State Senator James Sanders Jr.\, State Senator Leroy Comrie\, State Assembly Member Alicia Hyndman\, State Assembly Member Clyde Vanel\, State Assembly Member Khaleel Anderson\, Council Member Selvena Brooks-Powers\, and Council Member Nantasha Williams. \nRegister Here
URL:https://buj.org/event/property-tax-benefits-for-homeowners/
LOCATION:Online via Zoom
CATEGORIES:Consumer & Economic Advocacy,Homeowners
ATTACH;FMTTYPE=image/png:https://buj.org/wp-content/uploads/2022/01/2022-01-25-Protect-Our-Homes-Flyer-Twitter-Post.png
END:VEVENT
END:VCALENDAR